BEGIN:VCALENDAR
VERSION:2.0
PRODID:-//78.137.164.236//NONSGML kigkonsult.se iCalcreator 2.20//
CALSCALE:GREGORIAN
METHOD:PUBLISH
X-WR-CALNAME:Ashton School
X-WR-CALDESC:Ashton School
X-FROM-URL:http://ashton.ie
X-WR-TIMEZONE:Europe/Dublin
BEGIN:VTIMEZONE
TZID:Europe/Dublin
X-LIC-LOCATION:Europe/Dublin
BEGIN:STANDARD
DTSTART:20171029T020000
TZOFFSETFROM:+0100
TZOFFSETTO:+0000
TZNAME:GMT
END:STANDARD
BEGIN:DAYLIGHT
DTSTART:20180325T010000
TZOFFSETFROM:+0000
TZOFFSETTO:+0100
TZNAME:IST
END:DAYLIGHT
END:VTIMEZONE
BEGIN:VEVENT
UID:ai1ec-3921@ashton.ie
DTSTAMP:20171031T075121Z
CATEGORIES:
CONTACT:
DESCRIPTION:
DTSTART;VALUE=DATE:20170902
DTEND;VALUE=DATE:20170903
SEQUENCE:0
SUMMARY:Viewing of Leaving Certificate Scripts
URL:http://ashton.ie/event/viewing-of-leaving-certificate-scripts/
END:VEVENT
END:VCALENDAR
