BEGIN:VCALENDAR
VERSION:2.0
PRODID:-//78.137.164.236//NONSGML kigkonsult.se iCalcreator 2.20//
CALSCALE:GREGORIAN
METHOD:PUBLISH
X-WR-CALNAME:Ashton School
X-WR-CALDESC:Ashton School
X-FROM-URL:http://ashton.ie
X-WR-TIMEZONE:Europe/Dublin
BEGIN:VTIMEZONE
TZID:Europe/Dublin
X-LIC-LOCATION:Europe/Dublin
BEGIN:STANDARD
DTSTART:20171029T020000
TZOFFSETFROM:+0100
TZOFFSETTO:+0000
TZNAME:GMT
END:STANDARD
BEGIN:DAYLIGHT
DTSTART:20180325T010000
TZOFFSETFROM:+0000
TZOFFSETTO:+0100
TZNAME:IST
END:DAYLIGHT
END:VTIMEZONE
BEGIN:VEVENT
UID:ai1ec-3931@ashton.ie
DTSTAMP:20171031T164111Z
CATEGORIES;LANGUAGE=en-US:Parent/Teacher Meeting
CONTACT:
DESCRIPTION:
DTSTART;TZID=Europe/Dublin:20171121T161500
DTEND;TZID=Europe/Dublin:20171121T184500
SEQUENCE:0
SUMMARY:Second Year Parent-Teacher Meeting
URL:http://ashton.ie/event/second-year-parent-teacher-meeting-3/
END:VEVENT
END:VCALENDAR
